BEGIN:VCALENDAR
VERSION:2.0
PRODID:-//Hawkins Healthcare Center - ECPv6.15.20//NONSGML v1.0//EN
CALSCALE:GREGORIAN
METHOD:PUBLISH
X-WR-CALNAME:Hawkins Healthcare Center
X-ORIGINAL-URL:https://hawkinshealthcare.com
X-WR-CALDESC:Events for Hawkins Healthcare Center
REFRESH-INTERVAL;VALUE=DURATION:PT1H
X-Robots-Tag:noindex
X-PUBLISHED-TTL:PT1H
BEGIN:VTIMEZONE
TZID:UTC
BEGIN:STANDARD
TZOFFSETFROM:+0000
TZOFFSETTO:+0000
TZNAME:UTC
DTSTART:20260101T000000
END:STANDARD
END:VTIMEZONE
BEGIN:VEVENT
DTSTART;TZID=UTC:20270101T000000
DTEND;TZID=UTC:20270101T000000
DTSTAMP:20260424T131441
CREATED:20260202T215434Z
LAST-MODIFIED:20260203T200831Z
UID:1784-1798761600-1798761600@hawkinshealthcare.com
SUMMARY:Wake Forest Department of Radiology
DESCRIPTION:
URL:https://hawkinshealthcare.com/event/wake-forest-department-of-radiology-3/
LOCATION:Tennessee Radiological Society\, 701 Bradford Ave\, Nashville\, TN\, TN\, 37204\, United States
CATEGORIES:Events
ATTACH;FMTTYPE=image/png:https://hawkinshealthcare.com/wp-content/uploads/2026/01/ImageWithFallback.png
END:VEVENT
END:VCALENDAR